BEGIN:VCALENDAR
VERSION:2.0
PRODID:-//Candelaria - ECPv6.11.2.1//NONSGML v1.0//EN
CALSCALE:GREGORIAN
METHOD:PUBLISH
X-ORIGINAL-URL:https://www.candelaria.es
X-WR-CALDESC:Eventos para Candelaria
REFRESH-INTERVAL;VALUE=DURATION:PT1H
X-Robots-Tag:noindex
X-PUBLISHED-TTL:PT1H
BEGIN:VTIMEZONE
TZID:Europe/London
BEGIN:DAYLIGHT
TZOFFSETFROM:+0000
TZOFFSETTO:+0100
TZNAME:BST
DTSTART:20240331T010000
END:DAYLIGHT
BEGIN:STANDARD
TZOFFSETFROM:+0100
TZOFFSETTO:+0000
TZNAME:GMT
DTSTART:20241027T010000
END:STANDARD
END:VTIMEZONE
BEGIN:VEVENT
DTSTART;TZID=Europe/London:20241106T080000
DTEND;TZID=Europe/London:20241106T170000
DTSTAMP:20260421T142330
CREATED:20241106T075041Z
LAST-MODIFIED:20241106T075041Z
UID:36739-1730880000-1730912400@www.candelaria.es
SUMMARY:Teatro. “Un amor de época”
DESCRIPTION:20.00\nESPACIO CULTURAL CINE VIEJO\nCompañía: ASOCIACIÓN TEATRAL ROSALÍA ALONSO.\nEntradas a 1€ en tickety.es y taquilla.
URL:https://www.candelaria.es/event/teatro-un-amor-de-epoca/
CATEGORIES:Cultura
ATTACH;FMTTYPE=image/jpeg:https://www.candelaria.es/wp-content/uploads/465789702_935969575223033_1424752247529647272_n.jpg
END:VEVENT
BEGIN:VEVENT
DTSTART;TZID=Europe/London:20241113T180000
DTEND;TZID=Europe/London:20241113T190000
DTSTAMP:20260421T142330
CREATED:20241111T091018Z
LAST-MODIFIED:20241111T091018Z
UID:36900-1731520800-1731524400@www.candelaria.es
SUMMARY:Reunión de la Mesa de la Cultura
DESCRIPTION:Reunión de la Mesa de la Cultura \n18.00\nESPACIO CULTURAL CINE VIEJO\nReunión entre los colectivos culturales para coordinar la\ngestión cultural del municipio
URL:https://www.candelaria.es/event/reunion-de-la-mesa-de-la-cultura-3/
CATEGORIES:Cultura
ATTACH;FMTTYPE=image/jpeg:https://www.candelaria.es/wp-content/uploads/Agenda-Noviembre-2024-Pantallas-24.jpg
END:VEVENT
BEGIN:VEVENT
DTSTART;TZID=Europe/London:20241114T180000
DTEND;TZID=Europe/London:20241114T190000
DTSTAMP:20260421T142330
CREATED:20241111T091237Z
LAST-MODIFIED:20241111T091237Z
UID:36902-1731607200-1731610800@www.candelaria.es
SUMMARY:Presentación del libro «Leugim» de Lange Aguiar
DESCRIPTION:PRESENTACIÓN DEL LIBRO “LEUGIM” DE LANGE AGUIAR\nBibliotecas vivas\n18.00\nBIBLIOTECA DE ZONA JOVEN PUNTA LARGA.
URL:https://www.candelaria.es/event/presentacion-del-libro-leugim-de-lange-aguiar/
CATEGORIES:Cultura
ATTACH;FMTTYPE=image/jpeg:https://www.candelaria.es/wp-content/uploads/Agenda-Noviembre-2024-Pantallas-25.jpg
END:VEVENT
BEGIN:VEVENT
DTSTART;TZID=Europe/London:20241115T180000
DTEND;TZID=Europe/London:20241115T193000
DTSTAMP:20260421T142330
CREATED:20241111T091343Z
LAST-MODIFIED:20241111T091343Z
UID:36904-1731693600-1731699000@www.candelaria.es
SUMMARY:Encuentro- debate con José Manue Marrero\, Jaime Coello y el colectivo Meridiano Literario
DESCRIPTION:18.00\nSALÓN DE ACTOS DE ZONA JOVEN\nPUNTA LARGA\nDentro del proyecto “CLIMA:\nCreación Literaria por el\nMedioambiente”.\nCoordina: CULTURALIAS.
URL:https://www.candelaria.es/event/encuentro-debate-con-jose-manue-marrero-jaime-coello-y-el-colectivo-meridiano-literario/
CATEGORIES:Cultura
ATTACH;FMTTYPE=image/jpeg:https://www.candelaria.es/wp-content/uploads/Agenda-Noviembre-2024-Pantallas-26.jpg
END:VEVENT
BEGIN:VEVENT
DTSTART;TZID=Europe/London:20241115T190000
DTEND;TZID=Europe/London:20241115T200000
DTSTAMP:20260421T142330
CREATED:20241111T092048Z
LAST-MODIFIED:20241111T092048Z
UID:36908-1731697200-1731700800@www.candelaria.es
SUMMARY:Acto de entrega de los Premios al Arte 2024
DESCRIPTION:19.00\nESPACIO CULTURAL AYUNTAMIENTO VIEJO\n21º Certamen de pintura Dimas Coello.\n6º Concurso bienal de composición musical para banda.\n9º Concurso de creación literaria.\n4º Concurso de proyectos artísticos profesionales de nueva creación.
URL:https://www.candelaria.es/event/acto-de-entrega-de-los-premios-al-arte-2024/
CATEGORIES:Cultura
ATTACH;FMTTYPE=image/jpeg:https://www.candelaria.es/wp-content/uploads/Agenda-Noviembre-2024-Pantallas-28.jpg
END:VEVENT
BEGIN:VEVENT
DTSTART;TZID=Europe/London:20241115T200000
DTEND;TZID=Europe/London:20241115T210000
DTSTAMP:20260421T142330
CREATED:20241111T092158Z
LAST-MODIFIED:20241111T092158Z
UID:36910-1731700800-1731704400@www.candelaria.es
SUMMARY:«Descalzos por el parque»
DESCRIPTION:“DESCALZOS POR EL PARQUE”. MUESTRA DE LOS COLECTIVOS DE TEATRO DE CANDELARIA \n20.00\nESPACIO CULTURAL CINE VIEJO\nCompañía: SUCÉDETE TEATRO.\nEntradas a 1€ en tickety.es y en taquilla.
URL:https://www.candelaria.es/event/descalzos-por-el-parque/
CATEGORIES:Cultura
ATTACH;FMTTYPE=image/jpeg:https://www.candelaria.es/wp-content/uploads/Agenda-Noviembre-2024-Pantallas-29.jpg
END:VEVENT
BEGIN:VEVENT
DTSTART;TZID=Europe/London:20241117T113000
DTEND;TZID=Europe/London:20241117T170000
DTSTAMP:20260421T142330
CREATED:20241111T093733Z
LAST-MODIFIED:20241111T093733Z
UID:36914-1731843000-1731862800@www.candelaria.es
SUMMARY:20º Encuentro de bandas infantiles y juveniles «Juan Abilio Alonso Fariña»
DESCRIPTION:20º Encuentro de bandas infantiles y juveniles «Juan Abilio Alonso Fariña» \n11.30 h Banda de la Academia MIGUEL REYES DE GÚÍMAR.\nBanda de la Academia de la A. M. SAN MARCOS EVANGELISTA DE TEGUESTE.\nBanda Juvenil de la A.A. M. LA CANDELARIA DE ARAFO.\nBanda Juvenil LAS CANDELAS DE CANDELARIA.\n17.00 h.\nBanda Infantil LAS CANDELITAS DE CANDELARIA. Banda del primer ciclo de la SOCIEDAD FILARMÓNICA NIVARIA DE ARAFO. Banda de Iniciación ÓSCAR PÉREZ REGALADO DE LA A. A. ALCARAVÁN DE SAN JUAN DE LA RAMBLA.\nBanda Juvenil del Patronato de música NTRA. SRA. DE LOURDES\nDE VALLE DE GUERRA.\nCoordina: BANDA LAS CANDELAS.
URL:https://www.candelaria.es/event/20o-encuentro-de-bandas-infantiles-y-juveniles-juan-abilio-alonso-farina/
CATEGORIES:Cultura
ATTACH;FMTTYPE=image/jpeg:https://www.candelaria.es/wp-content/uploads/Agenda-Noviembre-2024-Pantallas-31.jpg
END:VEVENT
BEGIN:VEVENT
DTSTART;TZID=Europe/London:20241120T170000
DTEND;TZID=Europe/London:20241120T180000
DTSTAMP:20260421T142330
CREATED:20241111T094259Z
LAST-MODIFIED:20241111T094259Z
UID:36922-1732122000-1732125600@www.candelaria.es
SUMMARY:Presentación del libro «Ya llegaste\, bebé»
DESCRIPTION:Presentación del libro «Ya llegaste\, bebé» \nBIBLIOTECA DE ZONA JOVEN PUNTA LARGA\nEdición exclusiva del Ayuntamiento de Candelaria para dar la bienvenida a todos los bebés empadronados en el municipio\, con textos de LAURA ESCUELA e ilustraciones de ALICIA BORGES
URL:https://www.candelaria.es/event/presentacion-del-libro-ya-llegaste-bebe/
CATEGORIES:Cultura
ATTACH;FMTTYPE=image/jpeg:https://www.candelaria.es/wp-content/uploads/Agenda-Noviembre-2024-Pantallas-35.jpg
END:VEVENT
BEGIN:VEVENT
DTSTART;TZID=Europe/London:20241121T170000
DTEND;TZID=Europe/London:20241121T190000
DTSTAMP:20260421T142330
CREATED:20241112T191108Z
LAST-MODIFIED:20241112T191108Z
UID:36953-1732208400-1732215600@www.candelaria.es
SUMMARY:Taller de creaciones con rotuladores Posca
DESCRIPTION:Actividad cultural de la empresa Maja Espacio Creativo \n17.00 a 19.00\nMaja Espacio Creativo – Igueste\nDirigido a personas creativas de cualquier edad que les guste trabajar con rotuladores acrílicos.\nOrganiza: MAJA ESPACIO CREATIVO Y PAPELERÍA CENTRO
URL:https://www.candelaria.es/event/taller-de-creaciones-con-rotuladores-posca/
CATEGORIES:Cultura
ATTACH;FMTTYPE=image/jpeg:https://www.candelaria.es/wp-content/uploads/Agenda-Noviembre-2024-Pantallas-40-1.jpg
END:VEVENT
BEGIN:VEVENT
DTSTART;TZID=Europe/London:20241122T163000
DTEND;TZID=Europe/London:20241122T183000
DTSTAMP:20260421T142330
CREATED:20241112T191318Z
LAST-MODIFIED:20241112T191333Z
UID:36956-1732293000-1732300200@www.candelaria.es
SUMMARY:Relatos en vivo «Historias de las mujeres de Fasnia»
DESCRIPTION:Espacio Cultural Porfirio Torres Cruz (Igueste) \n16.30 horas
URL:https://www.candelaria.es/event/relatos-en-vivo-historias-de-las-mujeres-de-fasnia/
CATEGORIES:Cultura
ATTACH;FMTTYPE=image/jpeg:https://www.candelaria.es/wp-content/uploads/Agenda-Noviembre-2024-Pantallas-41-1.jpg
END:VEVENT
BEGIN:VEVENT
DTSTART;TZID=Europe/London:20241122T170000
DTEND;TZID=Europe/London:20241122T190000
DTSTAMP:20260421T142330
CREATED:20241112T191606Z
LAST-MODIFIED:20241112T191606Z
UID:36960-1732294800-1732302000@www.candelaria.es
SUMMARY:Inicio Club de Lectura para jóvenes de Igueste
DESCRIPTION:Obra “Invisibles” de Eloy Moreno. \n17.00 horas Centro Cultural Porfirio Torres Cruz (Igueste) \nBibliotecas vivas  CULTURA (EXT. 4101)
URL:https://www.candelaria.es/event/inicio-club-de-lectura-para-jovenes-de-igueste/
CATEGORIES:Cultura
ATTACH;FMTTYPE=image/jpeg:https://www.candelaria.es/wp-content/uploads/Agenda-Noviembre-2024-Pantallas-42-1.jpg
END:VEVENT
BEGIN:VEVENT
DTSTART;TZID=Europe/London:20241123T123000
DTEND;TZID=Europe/London:20241123T133000
DTSTAMP:20260421T142330
CREATED:20241112T192411Z
LAST-MODIFIED:20241112T192428Z
UID:36972-1732365000-1732368600@www.candelaria.es
SUMMARY:Expobandas 2024
DESCRIPTION:12.30 PLAZA DE LA CRUZ PÉREZ A PLAZA DE LA PATRONA DE CANARIAS\nPasacalle de las bandas de música:\nPrincesa Yaiza de El Rosario.\nStmo. Cristo de El Calvario de El Tanque.\nLa Candelaria de Arafo.\nJosé Manuel Cabrera Mejías de\nIcod de los Vinos.\nNueva Banda de Igueste de Candelaria.\nLas Candelas de Candelaria.\nCoordina: FEDERACIÓN TINERFEÑA DE BANDAS DE MÚSIC
URL:https://www.candelaria.es/event/expobandas/
CATEGORIES:Cultura
ATTACH;FMTTYPE=image/jpeg:https://www.candelaria.es/wp-content/uploads/Agenda-Noviembre-2024-Pantallas-46-1.jpg
END:VEVENT
BEGIN:VEVENT
DTSTART;TZID=Europe/London:20241123T200000
DTEND;TZID=Europe/London:20241123T220000
DTSTAMP:20260421T142330
CREATED:20241112T192636Z
LAST-MODIFIED:20241112T192636Z
UID:36976-1732392000-1732399200@www.candelaria.es
SUMMARY:Teatro musical: Negras
DESCRIPTION:ESPACIO CULTURAL CINE VIEJO\nEntradas a 3 euros en tickery.es y taquilla.\nColabora: Programa MARES del\nGobierno de Canarias.
URL:https://www.candelaria.es/event/teatro-musical-negras/
CATEGORIES:Cultura
ATTACH;FMTTYPE=image/jpeg:https://www.candelaria.es/wp-content/uploads/Agenda-Noviembre-2024-Pantallas-48-1.jpg
END:VEVENT
BEGIN:VEVENT
DTSTART;TZID=Europe/London:20241124T120000
DTEND;TZID=Europe/London:20241124T130000
DTSTAMP:20260421T142330
CREATED:20241112T193048Z
LAST-MODIFIED:20241112T193048Z
UID:36982-1732449600-1732453200@www.candelaria.es
SUMMARY:Teatro familiar: A Ciencia Cierta
DESCRIPTION:ESPACIO CULTURAL CINE VIEJO\nCompañía: FIDEL GALVÁN.\nEntradas a 3€ en tickery.es y taquilla.\nColabora: Red de Espacios Escénicos Municipales de Tenerife
URL:https://www.candelaria.es/event/teatro-familiar-a-ciencia-cierta/
CATEGORIES:Cultura
ATTACH;FMTTYPE=image/jpeg:https://www.candelaria.es/wp-content/uploads/Agenda-Noviembre-2024-Pantallas-50-1.jpg
END:VEVENT
END:VCALENDAR