BEGIN:VCALENDAR
VERSION:2.0
PRODID:-//Candelaria - ECPv6.11.2.1//NONSGML v1.0//EN
CALSCALE:GREGORIAN
METHOD:PUBLISH
X-WR-CALNAME:Candelaria
X-ORIGINAL-URL:https://www.candelaria.es
X-WR-CALDESC:Eventos para Candelaria
REFRESH-INTERVAL;VALUE=DURATION:PT1H
X-Robots-Tag:noindex
X-PUBLISHED-TTL:PT1H
BEGIN:VTIMEZONE
TZID:Europe/London
BEGIN:DAYLIGHT
TZOFFSETFROM:+0000
TZOFFSETTO:+0100
TZNAME:BST
DTSTART:20260329T010000
END:DAYLIGHT
BEGIN:STANDARD
TZOFFSETFROM:+0100
TZOFFSETTO:+0000
TZNAME:GMT
DTSTART:20261025T010000
END:STANDARD
END:VTIMEZONE
BEGIN:VEVENT
DTSTART;TZID=Europe/London:20260425T200000
DTEND;TZID=Europe/London:20260425T220000
DTSTAMP:20260421T011530
CREATED:20260420T095944Z
LAST-MODIFIED:20260420T095944Z
UID:44551-1777147200-1777154400@www.candelaria.es
SUMMARY:Teatro: La Tuerta
DESCRIPTION:20.00\nESPACIO CULTURAL CINE VIEJO\nCompañía: ARANZA COELLO.\nEntradas a 3€ en tickety.es y taquilla.\nColabora: Red de Espacios Escénicos Municipales de Tenerife
URL:https://www.candelaria.es/event/teatro-la-tuerta/
CATEGORIES:Cultura
END:VEVENT
END:VCALENDAR