BEGIN:VCALENDAR
VERSION:2.0
PRODID:-//Candelaria - ECPv6.11.2.1//NONSGML v1.0//EN
CALSCALE:GREGORIAN
METHOD:PUBLISH
X-ORIGINAL-URL:https://www.candelaria.es
X-WR-CALDESC:Eventos para Candelaria
REFRESH-INTERVAL;VALUE=DURATION:PT1H
X-Robots-Tag:noindex
X-PUBLISHED-TTL:PT1H
BEGIN:VTIMEZONE
TZID:Europe/London
BEGIN:DAYLIGHT
TZOFFSETFROM:+0000
TZOFFSETTO:+0100
TZNAME:BST
DTSTART:20210328T010000
END:DAYLIGHT
BEGIN:STANDARD
TZOFFSETFROM:+0100
TZOFFSETTO:+0000
TZNAME:GMT
DTSTART:20211031T010000
END:STANDARD
END:VTIMEZONE
BEGIN:VEVENT
DTSTART;TZID=Europe/London:20210911T110000
DTEND;TZID=Europe/London:20210911T120000
DTSTAMP:20260422T231731
CREATED:20210830T124646Z
LAST-MODIFIED:20210830T124646Z
UID:20965-1631358000-1631361600@www.candelaria.es
SUMMARY:Taller de origami para niños
DESCRIPTION:Zona Joven Punta Larga.\nArte del plegado del papel tradicional japonés. 5 a 10 años.\nInscripción previa en el 922 500 530\, de 9.00 a 14.00 y 16.00 a 20.00 h.\nPrioridad empadronados.\nColabora: Cabildo de Tenerife.
URL:https://www.candelaria.es/event/taller-de-origami-para-ninos/
CATEGORIES:Cultura
ATTACH;FMTTYPE=image/jpeg:https://www.candelaria.es/wp-content/uploads/Agenda-Septiembre-2021-Pantallas-15.jpg
END:VEVENT
BEGIN:VEVENT
DTSTART;TZID=Europe/London:20210917T180000
DTEND;TZID=Europe/London:20210917T190000
DTSTAMP:20260422T231731
CREATED:20210830T130015Z
LAST-MODIFIED:20210830T130015Z
UID:20971-1631901600-1631905200@www.candelaria.es
SUMMARY:Recital de décimas\, charla y presentación de vídeo sobre la pesca tradicional en Candelaria
DESCRIPTION:Zona Joven Punta Larga.\nProyecto Memoria\, identidad y sostenibilidad en la\npesca tradicional del municipio de Candelaria.\nInscripción: info@culturalias.com\nOrganiza: CULTURALIAS.\nColabora: Instituto Canario de Desarrollo Cultural.
URL:https://www.candelaria.es/event/recital-de-decimas-charla-y-presentacion-de-video-sobre-la-pesca-tradicional-en-candelaria/
CATEGORIES:Cultura,Identidad Canaria
ATTACH;FMTTYPE=image/jpeg:https://www.candelaria.es/wp-content/uploads/Agenda-Septiembre-2021-Pantallas-18.jpg
END:VEVENT
BEGIN:VEVENT
DTSTART;TZID=Europe/London:20210918T103000
DTEND;TZID=Europe/London:20210918T113000
DTSTAMP:20260422T231731
CREATED:20210830T130315Z
LAST-MODIFIED:20210830T130315Z
UID:20977-1631961000-1631964600@www.candelaria.es
SUMMARY:Bebecuentos (6 a 36 meses) con Isabel Bolívar: en la selva
DESCRIPTION:Centro Cultural de La Villa.\nInscripción previa en\nel 922 500 530 de 9.00 a\n14.00 y 16.00 a 20.00 h.\nPrioridad empadronados.\nColabora: Cabildo de Tenerife.
URL:https://www.candelaria.es/event/bebecuentos-6-a-36-meses-con-isabel-bolivar-en-la-selva/
CATEGORIES:Cultura
ATTACH;FMTTYPE=image/jpeg:https://www.candelaria.es/wp-content/uploads/Agenda-Septiembre-2021-Pantallas-21.jpg
END:VEVENT
BEGIN:VEVENT
DTSTART;TZID=Europe/London:20210918T110000
DTEND;TZID=Europe/London:20210918T120000
DTSTAMP:20260422T231731
CREATED:20210830T130500Z
LAST-MODIFIED:20210830T130500Z
UID:20979-1631962800-1631966400@www.candelaria.es
SUMMARY:Pequecultura: talleres de cocina y encuadernación para niños
DESCRIPTION:Zona Joven Punta Larga.\n11.00 h. Cocina: ”Bocados literarios”. 6 a 10 años.\n11.30 h. Encuadernación: “Haz tu propia agenda”. 7 a 12 años.\nInscripción previa en el 922 500 530\, de 9.00 a 14.00\ny 16.00 a 20.00 h.\nPrioridad empadronados.\nColabora: Cabildo de Tenerife.
URL:https://www.candelaria.es/event/pequecultura-talleres-de-cocina-y-encuadernacion-para-ninos/
CATEGORIES:Cultura
ATTACH;FMTTYPE=image/jpeg:https://www.candelaria.es/wp-content/uploads/Agenda-Septiembre-2021-Pantallas-22.jpg
END:VEVENT
BEGIN:VEVENT
DTSTART;TZID=Europe/London:20210918T120000
DTEND;TZID=Europe/London:20210918T130000
DTSTAMP:20260422T231731
CREATED:20210830T130538Z
LAST-MODIFIED:20210830T130654Z
UID:20981-1631966400-1631970000@www.candelaria.es
SUMMARY:Pequecuentos con Isabel Bolívar: la cesta mágica
DESCRIPTION:Centro Cultural de La Villa.\nInscripción previa en el\n922 500 530 de 9.00 a 14.00\ny 16.00 a 20.00 h.\nPrioridad empadronados.\nColabora: Cabildo de Tenerife.
URL:https://www.candelaria.es/event/pequecuentos-con-isabel-bolivar-la-cesta-magica/
CATEGORIES:Cultura
ATTACH;FMTTYPE=image/jpeg:https://www.candelaria.es/wp-content/uploads/Agenda-Septiembre-2021-Pantallas-23.jpg
END:VEVENT
BEGIN:VEVENT
DTSTART;TZID=Europe/London:20210924T190000
DTEND;TZID=Europe/London:20210924T200000
DTSTAMP:20260422T231731
CREATED:20210830T131105Z
LAST-MODIFIED:20210830T131105Z
UID:20986-1632510000-1632513600@www.candelaria.es
SUMMARY:Presentación del libro 'Versos confinados' de María García Bello
DESCRIPTION:Zona Joven Punta Larga.\nPrólogo y presentación\nde TOÑI ALONSO\nRODRÍGUEZ.
URL:https://www.candelaria.es/event/presentacion-del-libro-versos-confinados-de-maria-garcia-bello/
CATEGORIES:Cultura
ATTACH;FMTTYPE=image/jpeg:https://www.candelaria.es/wp-content/uploads/Agenda-Septiembre-2021-Pantallas-27.jpg
END:VEVENT
BEGIN:VEVENT
DTSTART;TZID=Europe/London:20211001T080000
DTEND;TZID=Europe/London:20211001T220000
DTSTAMP:20260422T231731
CREATED:20210927T132554Z
LAST-MODIFIED:20210927T132554Z
UID:21236-1633075200-1633125600@www.candelaria.es
SUMMARY:Inicio del curso 21/22 de la Universidad Popular de Candelaria
DESCRIPTION:INICIO DEL CURSO 21/22 DE LA UNIVERSIDAD POPULAR DE CANDELARIA \nViernes 1. \nDiversos espacios culturales del municipio. \nConsultar programa específico. \nCultura 922 500 800 ext. 4101
URL:https://www.candelaria.es/event/inicio-del-curso-21-22-de-la-universidad-popular-de-candelaria/
CATEGORIES:Cultura
ATTACH;FMTTYPE=image/jpeg:https://www.candelaria.es/wp-content/uploads/Agenda-Septiembre-2021-Pantallas-35.jpg
END:VEVENT
BEGIN:VEVENT
DTSTART;TZID=Europe/London:20211004T110000
DTEND;TZID=Europe/London:20211004T120000
DTSTAMP:20260422T231731
CREATED:20211004T122106Z
LAST-MODIFIED:20211004T123003Z
UID:21330-1633345200-1633348800@www.candelaria.es
SUMMARY:Taller de animación lectora y manualidades "Manos artistas"
DESCRIPTION:SÁBADOS PEQUECULTURA: TALLER DE ANIMACIÓN LECTORA Y MANUALIDADES “MANOS ARTISTAS” (3 A 6 AÑOS) \n11.00 h \nZona Joven Punta Larga. A cargo de MON PERAZA. \nInscripción previa en el 922 500 530\, de 9.00 a 14.00 y 16.00 a 20.00 h. Prioridad empadronados. \nColabora: Cabildo de Tenerife \nMás información Cultura 922 500 530
URL:https://www.candelaria.es/event/taller-de-animacion-lectora-y-manualidades-manos-artistas/
CATEGORIES:Cultura
ATTACH;FMTTYPE=image/jpeg:https://www.candelaria.es/wp-content/uploads/Agenda-Octubre-2021-Pantallas-22.jpg
END:VEVENT
BEGIN:VEVENT
DTSTART;TZID=Europe/London:20211006T200000
DTEND;TZID=Europe/London:20211006T220000
DTSTAMP:20260422T231731
CREATED:20211004T102916Z
LAST-MODIFIED:20211004T103529Z
UID:21306-1633550400-1633557600@www.candelaria.es
SUMMARY:Ana contra la muerte
DESCRIPTION:Espacio Cultural Cine Viejo.\nCompañía de Uruguay compuesta por GABRIEL CALDERÓN\, GABRIELA IRIBARREN\, MARISA BETANCOR y MARÍA MENDIVE\, dentro de la Muestra Escénica Iberoamericana 2021.\nReserva tu plaza en tickety.es.\nOrganiza: Auditorio de Tenerife.
URL:https://www.candelaria.es/event/ana-contra-la-muerte/
CATEGORIES:Cultura
ATTACH;FMTTYPE=image/jpeg:https://www.candelaria.es/wp-content/uploads/Agenda-Octubre-2021-Pantallas-16.jpg
END:VEVENT
BEGIN:VEVENT
DTSTART;TZID=Europe/London:20211008T203000
DTEND;TZID=Europe/London:20211008T220000
DTSTAMP:20260422T231731
CREATED:20211004T115829Z
LAST-MODIFIED:20211004T121650Z
UID:21324-1633725000-1633730400@www.candelaria.es
SUMMARY:Concierto de Naturally. Canarias Góspel Summit 2021
DESCRIPTION:20.30 h Espacio Cultural Cine Viejo \nReserva tu plaza en tickety.es. Organiza: ESCUELA GÓSPEL DE CANARIAS \nMás información Cultura 922 500 800 extensión 4101 \n 
URL:https://www.candelaria.es/event/concierto-de-naturally-canarias-gospel-summit-2021/
CATEGORIES:Cultura
ATTACH;FMTTYPE=image/jpeg:https://www.candelaria.es/wp-content/uploads/Agenda-Octubre-2021-Pantallas-20.jpg
END:VEVENT
BEGIN:VEVENT
DTSTART;TZID=Europe/London:20211009T203000
DTEND;TZID=Europe/London:20211009T223000
DTSTAMP:20260422T231731
CREATED:20211004T123123Z
LAST-MODIFIED:20211004T141036Z
UID:21333-1633811400-1633818600@www.candelaria.es
SUMMARY:Concierto del Canarias Góspel Choir
DESCRIPTION:CONCIERTO DEL CANARIAS GOSPEL CHOIR. CANARIAS GOSPEL SUMMIT 2021  \n20.30 Espacio Cultural Cine Viejo. \nReserva tu plaza en tickety.es. \nOrganiza: ESCUELA GÓSPEL DE CANARIAS \nMás información concejalía de Cultura 922 500 800 extensión 4101
URL:https://www.candelaria.es/event/concierto-del-canarias-gospel-choir/
CATEGORIES:Cultura
ATTACH;FMTTYPE=image/jpeg:https://www.candelaria.es/wp-content/uploads/Agenda-Octubre-2021-Pantallas-23.jpg
END:VEVENT
BEGIN:VEVENT
DTSTART;TZID=Europe/London:20211010T120000
DTEND;TZID=Europe/London:20211010T133000
DTSTAMP:20260422T231731
CREATED:20211005T104709Z
LAST-MODIFIED:20211005T105417Z
UID:21353-1633867200-1633872600@www.candelaria.es
SUMMARY:Concierto de la muestra final Canarias Gospel Summit 2021
DESCRIPTION:CONCIERTO DE LA MUESTRA FINAL DE CANARIAS GOSPEL SUMMIT 2021 \n13.00 h \nEspacio Cultural Cine Viejo \nReserva tu plaza en tickety.es. \nOrganiza: ESCUELA GÓSPEL DE CANARIAS. \nMás información concejalía de Cultura 922 500 800 extensión 4101 \n 
URL:https://www.candelaria.es/event/concierto-de-la-muestra-final-canarias-gospel-summit-2021/
CATEGORIES:Cultura
ATTACH;FMTTYPE=image/jpeg:https://www.candelaria.es/wp-content/uploads/Agenda-Octubre-2021-Pantallas-26.jpg
END:VEVENT
BEGIN:VEVENT
DTSTART;TZID=Europe/London:20211011T193000
DTEND;TZID=Europe/London:20211011T220000
DTSTAMP:20260422T231731
CREATED:20211005T105531Z
LAST-MODIFIED:20211005T105620Z
UID:21356-1633980600-1633989600@www.candelaria.es
SUMMARY:Presentación del libro cuentos de hormigas del director Josep Vilageliu
DESCRIPTION:Presentación del libro cuentos de hormigas del director Josep Vilageliu \n19.30  \nZona Joven de Punta Larga \nLibro coeditado por las editoriales cartoneras Cartonera Island de Tenerife y Verónica Cartonera de Barcelona. Presentación con proyección de un documental sobre libros cartoneros. \nMás información concejalía de Cultura 922 500 800 extensión 4101 \n 
URL:https://www.candelaria.es/event/presentacion-del-libro-cuentos-de-hormigas-del-director-josep-vilageliu/
CATEGORIES:Cultura
ATTACH;FMTTYPE=image/jpeg:https://www.candelaria.es/wp-content/uploads/Agenda-Octubre-2021-Pantallas-27.jpg
END:VEVENT
BEGIN:VEVENT
DTSTART;TZID=Europe/London:20211015T200000
DTEND;TZID=Europe/London:20211015T210000
DTSTAMP:20260422T231731
CREATED:20211005T110458Z
LAST-MODIFIED:20211005T110521Z
UID:21362-1634328000-1634331600@www.candelaria.es
SUMMARY:Hermanamiento cultural entre amigos de la guitarra de Barakaldo y Rondalla Antón Guanche
DESCRIPTION:Hermanamiento cultural entre amigos de la guitarra de Barakaldo y Rondalla Antón Guanche \nEspacio Cultural Cine Viejo. No necesita reserva previa. \n 
URL:https://www.candelaria.es/event/hermanamiento-cultural-entre-amigos-de-la-guitarra-de-barakaldo-y-rondalla-anton-guanche/
CATEGORIES:Cultura
ATTACH;FMTTYPE=image/jpeg:https://www.candelaria.es/wp-content/uploads/Agenda-Octubre-2021-Pantallas-29.jpg
END:VEVENT
BEGIN:VEVENT
DTSTART;TZID=Europe/London:20211016T100000
DTEND;TZID=Europe/London:20211016T123000
DTSTAMP:20260422T231731
CREATED:20211005T111509Z
LAST-MODIFIED:20211005T111509Z
UID:21375-1634378400-1634387400@www.candelaria.es
SUMMARY:Taller de Góspel para niños y jóvenes 'Canarias Góspel Summit 21'
DESCRIPTION:Centro Cultural de La Villa.\nA cargo de SONIA CÁRDENAS.\n+info e inscripciones:\ncomunicacion@escuelagospeldecanarias.org.\nOrganiza: ESCUELA GÓSPEL DE CANARIAS.
URL:https://www.candelaria.es/event/taller-de-gospel-para-ninos-y-jovenes-canarias-gospel-summit-21/
CATEGORIES:Cultura
ATTACH;FMTTYPE=image/jpeg:https://www.candelaria.es/wp-content/uploads/Agenda-Octubre-2021-Pantallas-30.jpg
END:VEVENT
BEGIN:VEVENT
DTSTART;TZID=Europe/London:20211016T100000
DTEND;TZID=Europe/London:20211016T140000
DTSTAMP:20260422T231731
CREATED:20211005T111336Z
LAST-MODIFIED:20211005T111336Z
UID:21373-1634378400-1634392800@www.candelaria.es
SUMMARY:Masterclass sobre los pilares del cuidado de la voz 'Canarias Gospel Summit 21'
DESCRIPTION:Centro Cultural de La Villa.\nA cargo de la logopeda ROCÍO GONZÁLEZ.\n+info e inscripciones:\ncomunicacion@escuelagospeldecanarias.org.\nOrganiza: ESCUELA GÓSPEL DE CANARIAS.
URL:https://www.candelaria.es/event/masterclass-sobre-los-pilares-del-cuidado-de-la-voz-canarias-gospel-summit-21/
CATEGORIES:Cultura
ATTACH;FMTTYPE=image/jpeg:https://www.candelaria.es/wp-content/uploads/Agenda-Octubre-2021-Pantallas-31.jpg
END:VEVENT
BEGIN:VEVENT
DTSTART;TZID=Europe/London:20211016T103000
DTEND;TZID=Europe/London:20211016T110000
DTSTAMP:20260422T231731
CREATED:20211005T111756Z
LAST-MODIFIED:20211005T111756Z
UID:21377-1634380200-1634382000@www.candelaria.es
SUMMARY:Bebecuentos (6 a 36 meses) con Laura Escuela "Alamar"
DESCRIPTION:Centro Cultural de La Villa.\nInscripción previa en el 922 500 530\, de 9.00 a 14.00 y 16.00 a 20.00 h.\nPrioridad empadronados.\nColabora: Cabildo de Tenerife.
URL:https://www.candelaria.es/event/bebecuentos-6-a-36-meses-con-laura-escuela-alamar/
CATEGORIES:Cultura
ATTACH;FMTTYPE=image/jpeg:https://www.candelaria.es/wp-content/uploads/Agenda-Octubre-2021-Pantallas-32.jpg
END:VEVENT
BEGIN:VEVENT
DTSTART;TZID=Europe/London:20211016T120000
DTEND;TZID=Europe/London:20211016T130000
DTSTAMP:20260422T231731
CREATED:20211005T112208Z
LAST-MODIFIED:20211005T112208Z
UID:21379-1634385600-1634389200@www.candelaria.es
SUMMARY:Bebecuentos de 3 a 6 años con Laura Escuela: ¡A navegar!
DESCRIPTION:Centro Cultural de La Villa.\nInscripción previa en el 922 500 530\, de 9.00 a 14.00 y 16.00 a 20.00 h.\nPrioridad empadronados.\nColabora: Cabildo de Tenerife.
URL:https://www.candelaria.es/event/bebecuentos-de-3-a-6-anos-con-laura-escuela-a-navegar/
CATEGORIES:Cultura
ATTACH;FMTTYPE=image/jpeg:https://www.candelaria.es/wp-content/uploads/Agenda-Octubre-2021-Pantallas-33.jpg
END:VEVENT
BEGIN:VEVENT
DTSTART;TZID=Europe/London:20211016T170000
DTEND;TZID=Europe/London:20211016T190000
DTSTAMP:20260422T231731
CREATED:20211005T112522Z
LAST-MODIFIED:20211005T112522Z
UID:21381-1634403600-1634410800@www.candelaria.es
SUMMARY:Ruta teatralizada para familias: el Igueste de Dimas Coello
DESCRIPTION:Salida desde el Espacio Cultural de Igueste.\nInscripción previa en el 922 500 530\, de 9.00 a 14.00 y 16.00 a 20.00 h.\nPrioridad empadronados.\nCompañía ZÁLATTA TEATRO\nColabora: Cabildo de Tenerife.
URL:https://www.candelaria.es/event/ruta-teatralizada-para-familias-el-igueste-de-dimas-coello/
CATEGORIES:Cultura
ATTACH;FMTTYPE=image/jpeg:https://www.candelaria.es/wp-content/uploads/Agenda-Octubre-2021-Pantallas-34.jpg
END:VEVENT
BEGIN:VEVENT
DTSTART;TZID=Europe/London:20211016T200000
DTEND;TZID=Europe/London:20211016T210000
DTSTAMP:20260422T231731
CREATED:20211005T112615Z
LAST-MODIFIED:20211005T112615Z
UID:21383-1634414400-1634418000@www.candelaria.es
SUMMARY:Virginia Guantanamera en concierto
DESCRIPTION:Espacio Cultural Cine Viejo.\nReserva tu plaza en tickety.es
URL:https://www.candelaria.es/event/virginia-guantanamera-en-concierto/
CATEGORIES:Cultura
ATTACH;FMTTYPE=image/jpeg:https://www.candelaria.es/wp-content/uploads/Agenda-Octubre-2021-Pantallas-35.jpg
END:VEVENT
BEGIN:VEVENT
DTSTART;TZID=Europe/London:20211017T120000
DTEND;TZID=Europe/London:20211017T130000
DTSTAMP:20260422T231731
CREATED:20211005T112825Z
LAST-MODIFIED:20211005T112825Z
UID:21385-1634472000-1634475600@www.candelaria.es
SUMMARY:Concierto en familia 'La cerdita Lupe'
DESCRIPTION:Espacio Cultural Cine Viejo.\nBANDA DE MÚSICA LAS CANDELAS con el narrador MOISÉS ÉVORA DE LA ROSA y la\ncompañía de títeres TRAGALUZ.\nReserva tu plaza en tickety.es.\nColabora: Cabildo de Tenerife.
URL:https://www.candelaria.es/event/concierto-en-familia-la-cerdita-lupe/
CATEGORIES:Cultura
ATTACH;FMTTYPE=image/jpeg:https://www.candelaria.es/wp-content/uploads/Agenda-Octubre-2021-Pantallas-36.jpg
END:VEVENT
BEGIN:VEVENT
DTSTART;TZID=Europe/London:20211020T180000
DTEND;TZID=Europe/London:20211020T190000
DTSTAMP:20260422T231731
CREATED:20211005T113500Z
LAST-MODIFIED:20211005T113500Z
UID:21403-1634752800-1634756400@www.candelaria.es
SUMMARY:Cinefórum: 'La visita de M. Night Shyamalan'
DESCRIPTION:Zona Joven Punta Larga. Proyección y coloquio con DESIREE RAMOS.
URL:https://www.candelaria.es/event/cineforum-la-visita-de-m-night-shyamalan/
CATEGORIES:Cultura
ATTACH;FMTTYPE=image/jpeg:https://www.candelaria.es/wp-content/uploads/Agenda-Octubre-2021-Pantallas-39.jpg
END:VEVENT
BEGIN:VEVENT
DTSTART;TZID=Europe/London:20211023T110000
DTEND;TZID=Europe/London:20211023T120000
DTSTAMP:20260422T231731
CREATED:20211005T114523Z
LAST-MODIFIED:20211005T114523Z
UID:21410-1634986800-1634990400@www.candelaria.es
SUMMARY:Taller de pintura y cuentos de brujas y otros espantos
DESCRIPTION:Zona Joven Punta Larga.\n11.00 h. Cuentos de miedo a cargo de DIEGO REINFELD. (+ 6 años)\n11.30 h. Taller de pintura “Dimas Coello para niños”.\nInscripción previa en el 922 500 530\, de 9.00 a 14.00 y 16.00 a 20.00 h.\nPrioridad empadronados.\nColabora: Cabildo de Tenerife.
URL:https://www.candelaria.es/event/taller-de-pintura-y-cuentos-de-brujas-y-otros-espantos/
CATEGORIES:Cultura
END:VEVENT
BEGIN:VEVENT
DTSTART;TZID=Europe/London:20211023T210000
DTEND;TZID=Europe/London:20211023T220000
DTSTAMP:20260422T231731
CREATED:20211005T115114Z
LAST-MODIFIED:20211005T115114Z
UID:21414-1635022800-1635026400@www.candelaria.es
SUMMARY:Concierto de amigos del arte de Güímar
DESCRIPTION:Espacio Cultural Cine Viejo.\nReserva tu plaza en tickety.es
URL:https://www.candelaria.es/event/concierto-de-amigos-del-arte-de-guimar/
CATEGORIES:Cultura
ATTACH;FMTTYPE=image/jpeg:https://www.candelaria.es/wp-content/uploads/Agenda-Octubre-2021-Pantallas-44-1.jpg
END:VEVENT
BEGIN:VEVENT
DTSTART;TZID=Europe/London:20211025T190000
DTEND;TZID=Europe/London:20211025T200000
DTSTAMP:20260422T231731
CREATED:20211005T115706Z
LAST-MODIFIED:20211005T115706Z
UID:21419-1635188400-1635192000@www.candelaria.es
SUMMARY:Reunión de la mesa de la Cultural de Candelaria
DESCRIPTION:Espacio Cultural Cine Viejo.\nReunión entre los colectivos\nculturales para coordinar la\ngestión cultural del municipio.
URL:https://www.candelaria.es/event/reunion-de-la-mesa-de-la-cultural-de-candelaria/
CATEGORIES:Cultura
ATTACH;FMTTYPE=image/jpeg:https://www.candelaria.es/wp-content/uploads/Agenda-Octubre-2021-Pantallas-46.jpg
END:VEVENT
BEGIN:VEVENT
DTSTART;TZID=Europe/London:20211031T120000
DTEND;TZID=Europe/London:20211031T130000
DTSTAMP:20260422T231731
CREATED:20211005T121512Z
LAST-MODIFIED:20211005T121512Z
UID:21442-1635681600-1635685200@www.candelaria.es
SUMMARY:Musical infantil 'Villanos'
DESCRIPTION:Espacio Cultural Cine Viejo.\nCompañía HABEMUS TEATRO.\nReserva tu plaza en tickety.es.\nColabora: Cabildo de Tenerife.
URL:https://www.candelaria.es/event/musical-infantil-villanos/
CATEGORIES:Cultura
ATTACH;FMTTYPE=image/jpeg:https://www.candelaria.es/wp-content/uploads/Agenda-Octubre-2021-Pantallas-55.jpg
END:VEVENT
BEGIN:VEVENT
DTSTART;TZID=Europe/London:20211102T080000
DTEND;TZID=Europe/London:20211102T170000
DTSTAMP:20260422T231731
CREATED:20211102T091941Z
LAST-MODIFIED:20211102T091941Z
UID:21692-1635840000-1635872400@www.candelaria.es
SUMMARY:Presentación del nuevo CD y espectáculo Bailadero de la Agrupación Folklórica Los Brezos
DESCRIPTION:PRESENTACIÓN DEL NUEVO CD Y ESPECTÁCULO “BAILADERO” DE LA AGRUPACIÓN FOLKLÓRICA LOS BREZOS \nEspacio Cultural Cine Viejo.\nReserva tu plaza en tickety.es
URL:https://www.candelaria.es/event/presentacion-del-nuevo-cd-y-espectaculo-bailadero-de-la-agrupacion-folklorica-los-brezos/
CATEGORIES:Cultura
ATTACH;FMTTYPE=image/jpeg:https://www.candelaria.es/wp-content/uploads/Agenda-Noviembre-2021-Pantallas-19.jpg
END:VEVENT
BEGIN:VEVENT
DTSTART;TZID=Europe/London:20211105T180000
DTEND;TZID=Europe/London:20211105T193000
DTSTAMP:20260422T231731
CREATED:20211102T082908Z
LAST-MODIFIED:20211102T082908Z
UID:21655-1636135200-1636140600@www.candelaria.es
SUMMARY:Rincón Literario
DESCRIPTION:Espacio joven interactivo para expresar la creatividad oral y escrita. Zona Joven de Punta Larga.
URL:https://www.candelaria.es/event/rincon-literario-5/
CATEGORIES:Cultura
ATTACH;FMTTYPE=image/jpeg:https://www.candelaria.es/wp-content/uploads/Agenda-Noviembre-2021-Pantallas-09.jpg
END:VEVENT
BEGIN:VEVENT
DTSTART;TZID=Europe/London:20211106T103000
DTEND;TZID=Europe/London:20211106T120000
DTSTAMP:20260422T231731
CREATED:20211102T085250Z
LAST-MODIFIED:20211102T085250Z
UID:21667-1636194600-1636200000@www.candelaria.es
SUMMARY:Bebecuentos (6 a 36 meses) con Isabel Bolívar
DESCRIPTION:Centro Cultural de La Villa.\nInscripción previa en el 922 500 530\, de 9.00 a 14.00 y 16.00 a 20.00 h.\nPrioridad empadronados.\nColabora: Cabildo de Tenerife.
URL:https://www.candelaria.es/event/bebecuentos-6-a-36-meses-con-isabel-bolivar/
CATEGORIES:Cultura
ATTACH;FMTTYPE=image/jpeg:https://www.candelaria.es/wp-content/uploads/Agenda-Noviembre-2021-Pantallas-11.jpg
END:VEVENT
BEGIN:VEVENT
DTSTART;TZID=Europe/London:20211106T120000
DTEND;TZID=Europe/London:20211106T130000
DTSTAMP:20260422T231731
CREATED:20211102T085340Z
LAST-MODIFIED:20211102T085340Z
UID:21669-1636200000-1636203600@www.candelaria.es
SUMMARY:Pequecuentos (3 a 6 años) con Isabel Bolívar
DESCRIPTION:Centro Cultural de La Villa.\nInscripción previa en el 922 500 530\, de 9.00 a 14.00 y 16.00 a 20.00 h.\nPrioridad empadronados.\nColabora: Cabildo de Tenerife.
URL:https://www.candelaria.es/event/pequecuentos-3-a-6-anos-con-isabel-bolivar/
CATEGORIES:Cultura
ATTACH;FMTTYPE=image/jpeg:https://www.candelaria.es/wp-content/uploads/Agenda-Noviembre-2021-Pantallas-12.jpg
END:VEVENT
END:VCALENDAR