BEGIN:VCALENDAR
VERSION:2.0
PRODID:-//Candelaria - ECPv6.11.2.1//NONSGML v1.0//EN
CALSCALE:GREGORIAN
METHOD:PUBLISH
X-ORIGINAL-URL:https://www.candelaria.es
X-WR-CALDESC:Eventos para Candelaria
REFRESH-INTERVAL;VALUE=DURATION:PT1H
X-Robots-Tag:noindex
X-PUBLISHED-TTL:PT1H
BEGIN:VTIMEZONE
TZID:Europe/London
BEGIN:DAYLIGHT
TZOFFSETFROM:+0000
TZOFFSETTO:+0100
TZNAME:BST
DTSTART:20260329T010000
END:DAYLIGHT
BEGIN:STANDARD
TZOFFSETFROM:+0100
TZOFFSETTO:+0000
TZNAME:GMT
DTSTART:20261025T010000
END:STANDARD
END:VTIMEZONE
BEGIN:VEVENT
DTSTART;TZID=Europe/London:20260308T120000
DTEND;TZID=Europe/London:20260308T130000
DTSTAMP:20260420T213028
CREATED:20260303T101706Z
LAST-MODIFIED:20260303T101706Z
UID:43980-1772971200-1772974800@www.candelaria.es
SUMMARY:6º FESTIVAL ESCÉNICAS: EL BAÚL DE LA ILUSIÓN
DESCRIPTION:6º FESTIVAL ESCÉNICAS: EL BAÚL DE LA ILUSIÓN \n12.00\nESPACIO CULTURAL CINE VIEJO\nCompañía: MIRIAM REYES.\nEntradas a 3€ en tickety.es y taquilla.\nColabora: Red de Espacios Escénicos\nMunicipales de Tenerife
URL:https://www.candelaria.es/event/6o-festival-escenicas-el-baul-de-la-ilusion/
CATEGORIES:Cultura
ATTACH;FMTTYPE=image/jpeg:https://www.candelaria.es/wp-content/uploads/Agenda-Marzo-2026-Pantallas-15.jpg
END:VEVENT
BEGIN:VEVENT
DTSTART;TZID=Europe/London:20260310T180000
DTEND;TZID=Europe/London:20260310T190000
DTSTAMP:20260420T213028
CREATED:20260330T093846Z
LAST-MODIFIED:20260330T093900Z
UID:44276-1773165600-1773169200@www.candelaria.es
SUMMARY:Presentación del libro «Almas rotas también pueden soñar» de Vanesa Pérez
DESCRIPTION:18.00 horas Biblioteca de Punta Larga \nMás información 922 500 800 extensión 1523
URL:https://www.candelaria.es/event/presentacion-del-libro-almas-rotas-tambien-pueden-sonar-de-vanesa-perez/
CATEGORIES:Cultura
ATTACH;FMTTYPE=image/jpeg:https://www.candelaria.es/wp-content/uploads/Agenda-Abril-2026-Pantallas-13.jpg
END:VEVENT
BEGIN:VEVENT
DTSTART;TZID=Europe/London:20260311T170000
DTEND;TZID=Europe/London:20260311T180000
DTSTAMP:20260420T213028
CREATED:20260303T102451Z
LAST-MODIFIED:20260303T102451Z
UID:43990-1773248400-1773252000@www.candelaria.es
SUMMARY:REUNIÓN ANUAL DE COORDINACIÓN CON EL COLECTIVO DE FOLKLORE
DESCRIPTION:REUNIÓN ANUAL DE COORDINACIÓN CON EL\nCOLECTIVO DE FOLKLORE \n17.00\nESPACIO CULTURAL\nPUNTA LARGA.
URL:https://www.candelaria.es/event/reunion-anual-de-coordinacion-con-el-colectivo-de-folklore/
CATEGORIES:Cultura
ATTACH;FMTTYPE=image/jpeg:https://www.candelaria.es/wp-content/uploads/Agenda-Marzo-2026-Pantallas-20.jpg
END:VEVENT
BEGIN:VEVENT
DTSTART;TZID=Europe/London:20260319T180000
DTEND;TZID=Europe/London:20260319T200000
DTSTAMP:20260420T213028
CREATED:20260303T103438Z
LAST-MODIFIED:20260303T103438Z
UID:44007-1773943200-1773950400@www.candelaria.es
SUMMARY:MUJERES A TRAVÉS DE LA ENTREVISTA: “NUESTRAS ANCESTRAS”
DESCRIPTION:MUJERES A TRAVÉS DE LA ENTREVISTA: “NUESTRAS ANCESTRAS” \n18.00\nSALÓN DE ACTOS DEL ESPACIO CULTURAL PUNTA LARGA\nHistoria\, genealogía y patrimonio local a través de entrevistas y coloquios en torno a mujeres de Candelaria.\nCoordina: TOÑI ALONSO.
URL:https://www.candelaria.es/event/mujeres-a-traves-de-la-entrevista-nuestras-ancestras/
CATEGORIES:Cultura
ATTACH;FMTTYPE=image/jpeg:https://www.candelaria.es/wp-content/uploads/Agenda-Marzo-2026-Pantallas-29.jpg
END:VEVENT
BEGIN:VEVENT
DTSTART;TZID=Europe/London:20260320T180000
DTEND;TZID=Europe/London:20260320T193000
DTSTAMP:20260420T213028
CREATED:20260303T103529Z
LAST-MODIFIED:20260303T103529Z
UID:44009-1774029600-1774035000@www.candelaria.es
SUMMARY:VISITA COMENTADA A LA EXPOSICIÓN “LEYENDO MIRADAS»
DESCRIPTION:VISITA COMENTADA A LA EXPOSICIÓN “LEYENDO MIRADAS: FOTOGRAFÍA Y POESÍA” Y RECITAL DE POESÍA CON LA CANTAUTORA SARA MARTÍN \n18.00\nHALL DEL SALÓN DE ACTOS\nDEL ESPACIO CULTURAL\nPUNTA LARGA\nCoordina: JOSICUDA\nCREATIVA
URL:https://www.candelaria.es/event/visita-comentada-a-la-exposicion-leyendo-miradas/
CATEGORIES:Cultura
ATTACH;FMTTYPE=image/jpeg:https://www.candelaria.es/wp-content/uploads/Agenda-Marzo-2026-Pantallas-30.jpg
END:VEVENT
BEGIN:VEVENT
DTSTART;TZID=Europe/London:20260320T200000
DTEND;TZID=Europe/London:20260320T213000
DTSTAMP:20260420T213028
CREATED:20260303T103727Z
LAST-MODIFIED:20260303T103727Z
UID:44013-1774036800-1774042200@www.candelaria.es
SUMMARY:EL ASESINATO DE ANDRÉS GALLARDO
DESCRIPTION:EL ASESINATO DE ANDRÉS GALLARDO\nTeatro\n20.00\nESPACIO CULTURAL CINE VIEJO\nCompañía: BABA YAGA TEATRO.\nEntradas a 1€ en tickety.es y taquilla.\nCULTURA (EXT. 4101)
URL:https://www.candelaria.es/event/el-asesinato-de-andres-gallardo-3/
CATEGORIES:Cultura
ATTACH;FMTTYPE=image/jpeg:https://www.candelaria.es/wp-content/uploads/Agenda-Marzo-2026-Pantallas-33.jpg
END:VEVENT
BEGIN:VEVENT
DTSTART;TZID=Europe/London:20260321T110000
DTEND;TZID=Europe/London:20260321T120000
DTSTAMP:20260420T213028
CREATED:20260303T104101Z
LAST-MODIFIED:20260303T104101Z
UID:44017-1774090800-1774094400@www.candelaria.es
SUMMARY:BEBECUENTOS (6 A 36 MESES) CON LAURA ESCUELA: “DE LA RAMA AL CIELO”
DESCRIPTION:BEBECUENTOS (6 A 36 MESES) CON LAURA ESCUELA: “DE LA RAMA AL CIELO” \n11.00\nCENTRO CULTURAL DE LA VILLA\nInscripción: centroculturalcandelaria@candelaria.es\,\nindicando nombre de asistentes\, DNI y móvil.\nPrioridad empadronados.\nColabora: Cabildo de Tenerife. \n 
URL:https://www.candelaria.es/event/bebecuentos-6-a-36-meses-con-laura-escuela-de-la-rama-al-cielo/
CATEGORIES:Cultura
ATTACH;FMTTYPE=image/jpeg:https://www.candelaria.es/wp-content/uploads/Agenda-Marzo-2026-Pantallas-35.jpg
END:VEVENT
BEGIN:VEVENT
DTSTART;TZID=Europe/London:20260321T120000
DTEND;TZID=Europe/London:20260321T140000
DTSTAMP:20260420T213028
CREATED:20260303T104151Z
LAST-MODIFIED:20260303T104151Z
UID:44019-1774094400-1774101600@www.candelaria.es
SUMMARY:PEQUECUENTOS (3 A 6 AÑOS) CON LAURA ESCUELA: “EN LAS NUBES”
DESCRIPTION:PEQUECUENTOS (3 A 6 AÑOS)CON LAURA ESCUELA: “EN LAS NUBES” \n12.00\nCENTRO CULTURAL DE LA VILLA\nInscripción: centroculturalcandelaria@candelaria.es\,\nindicando nombre de asistentes\, DNI y móvil.\nPrioridad empadronados.\nColabora: Cabildo de Tenerife.
URL:https://www.candelaria.es/event/pequecuentos-3-a-6-anos-con-laura-escuela-en-las-nubes/
CATEGORIES:Cultura
ATTACH;FMTTYPE=image/jpeg:https://www.candelaria.es/wp-content/uploads/Agenda-Marzo-2026-Pantallas-36.jpg
END:VEVENT
BEGIN:VEVENT
DTSTART;TZID=Europe/London:20260322T113000
DTEND;TZID=Europe/London:20260322T130000
DTSTAMP:20260420T213028
CREATED:20260303T104921Z
LAST-MODIFIED:20260303T104921Z
UID:44023-1774179000-1774184400@www.candelaria.es
SUMMARY:CONCIERTO DE LA BANDA DE MÚSICA LAS CANDELAS EN EL AUDITORIO DE TENERIFE
DESCRIPTION:CONCIERTO DE LA BANDA DE MÚSICA LAS CANDELAS EN EL AUDITORIO DE TENERIFE \n11.30\nAUDITORIO DE TENERIFE\nDentro del Programa Primavera Musical 2026.\nCoordina: FEDERACIÓN TINERFEÑA DE BANDAS.
URL:https://www.candelaria.es/event/concierto-de-la-banda-de-musica-las-candelas-en-el-auditorio-de-tenerife-2/
CATEGORIES:Cultura
ATTACH;FMTTYPE=image/jpeg:https://www.candelaria.es/wp-content/uploads/Agenda-Marzo-2026-Pantallas-40.jpg
END:VEVENT
BEGIN:VEVENT
DTSTART;TZID=Europe/London:20260410T180000
DTEND;TZID=Europe/London:20260410T193000
DTSTAMP:20260420T213028
CREATED:20260331T110828Z
LAST-MODIFIED:20260331T110828Z
UID:44345-1775844000-1775849400@www.candelaria.es
SUMMARY:PRESENTACIÓN DEL LIBRO “LAS ALMAS ROTAS TAMBIÉN PUEDEN SOÑAR”
DESCRIPTION:PRESENTACIÓN DEL\nLIBRO “LAS ALMAS ROTAS TAMBIÉN PUEDEN SOÑAR” DE VANESA PÉREZ
URL:https://www.candelaria.es/event/presentacion-del-libro-las-almas-rotas-tambien-pueden-sonar/
CATEGORIES:Cultura
ATTACH;FMTTYPE=image/jpeg:https://www.candelaria.es/wp-content/uploads/Agenda-Abril-2026-Pantallas-13-1.jpg
END:VEVENT
BEGIN:VEVENT
DTSTART;TZID=Europe/London:20260411T120000
DTEND;TZID=Europe/London:20260411T140000
DTSTAMP:20260420T213028
CREATED:20260331T111403Z
LAST-MODIFIED:20260331T111403Z
UID:44353-1775908800-1775916000@www.candelaria.es
SUMMARY:CUENTOS AL AIRE “UN CAMINO SALUDABLE»
DESCRIPTION:CUENTOS AL AIRE “UN CAMINO SALUDABLE» \n12.00\nFUENTE DE LA CRUZ PÉREZ\n(EXTERIOR DEL CINE VIEJO)\nCompañía: KOMBA\nPRODUCCIONES.
URL:https://www.candelaria.es/event/cuentos-al-aire-un-camino-saludable/
CATEGORIES:Cultura
ATTACH;FMTTYPE=image/jpeg:https://www.candelaria.es/wp-content/uploads/Agenda-Abril-2026-Pantallas-19.jpg
END:VEVENT
BEGIN:VEVENT
DTSTART;TZID=Europe/London:20260411T200000
DTEND;TZID=Europe/London:20260411T213000
DTSTAMP:20260420T213028
CREATED:20260331T111705Z
LAST-MODIFIED:20260331T111705Z
UID:44357-1775937600-1775943000@www.candelaria.es
SUMMARY:CONCIERTO EN FAMILIA “ALADDÍN” DE LA BANDA DE MÚSICA LAS CANDELAS
DESCRIPTION:CONCIERTO EN FAMILIA “ALADDÍN”\nDE LA BANDA DE MÚSICA LAS\nCANDELAS \n20.00\nESPACIO CULTURAL CINE VIEJO\nNarrador: MOISÉS ÉVORA.\nCompañía de teatro: VALENTÍN FARIÑA.\nEntradas a 1€ en tickety.es y taquilla.\nColabora: Federación Tinerfeña de Bandas\nde Música y Cabildo de Tenerife.
URL:https://www.candelaria.es/event/concierto-en-familia-aladdin-de-la-banda-de-musica-las-candelas/
CATEGORIES:Cultura
ATTACH;FMTTYPE=image/jpeg:https://www.candelaria.es/wp-content/uploads/Agenda-Abril-2026-Pantallas-24.jpg
END:VEVENT
BEGIN:VEVENT
DTSTART;TZID=Europe/London:20260414T173000
DTEND;TZID=Europe/London:20260414T190000
DTSTAMP:20260420T213028
CREATED:20260331T111932Z
LAST-MODIFIED:20260331T111932Z
UID:44361-1776187800-1776193200@www.candelaria.es
SUMMARY:PRESENTACIÓN DEL LIBRO “LA VIUDA BLANCA”
DESCRIPTION:PRESENTACIÓN DEL\nLIBRO “LA VIUDA BLANCA”\, DE MARÍA DEL MAR RODRÍGUEZ\nBibliotecas vivas\n17.30\nBIBLIOTECA DE PUNTA LARGA\nCoordina: ACTE CANARIAS
URL:https://www.candelaria.es/event/presentacion-del-libro-la-viuda-blanca/
CATEGORIES:Cultura
ATTACH;FMTTYPE=image/jpeg:https://www.candelaria.es/wp-content/uploads/Agenda-Abril-2026-Pantallas-25.jpg
END:VEVENT
BEGIN:VEVENT
DTSTART;TZID=Europe/London:20260416T120000
DTEND;TZID=Europe/London:20260416T140000
DTSTAMP:20260420T213028
CREATED:20260331T112543Z
LAST-MODIFIED:20260331T112543Z
UID:44371-1776340800-1776348000@www.candelaria.es
SUMMARY:PRESENTACIÓN DE LA PROGRAMACIÓN CONMEMORATIVA DE LOS 50 AÑOS DE LA FUNDACIÓN DE LA BANDA DE MÚSICA LAS CANDELAS
DESCRIPTION:PRESENTACIÓN DE LA PROGRAMACIÓN\nCONMEMORATIVA DE LOS 50 AÑOS DE LA FUNDACIÓN DE LA BANDA DE MÚSICA LAS CANDELAS \n12.00\nCASA DE LA MÚSICA ABILIO ALONSO OTAZO
URL:https://www.candelaria.es/event/presentacion-de-la-programacion-conmemorativa-de-los-50-anos-de-la-fundacion-de-la-banda-de-musica-las-candelas/
CATEGORIES:Cultura
ATTACH;FMTTYPE=image/jpeg:https://www.candelaria.es/wp-content/uploads/Agenda-Abril-2026-Pantallas-28.jpg
END:VEVENT
BEGIN:VEVENT
DTSTART;TZID=Europe/London:20260417T180000
DTEND;TZID=Europe/London:20260417T193000
DTSTAMP:20260420T213028
CREATED:20260331T112949Z
LAST-MODIFIED:20260331T112949Z
UID:44377-1776448800-1776454200@www.candelaria.es
SUMMARY:PRESENTACIÓN DEL LIBRO “LA REBELIÓN DE LOS GUANCHES DE ANAGA”
DESCRIPTION:PRESENTACIÓN DEL LIBRO “LA REBELIÓN\nDE LOS GUANCHES DE\nANAGA”\, DE DOMINGO GARÍ HAYEK \n18.00\nBIBLIOTECA DE PUNTA LARGA
URL:https://www.candelaria.es/event/presentacion-del-libro-la-rebelion-de-los-guanches-de-anaga/
CATEGORIES:Cultura
ATTACH;FMTTYPE=image/jpeg:https://www.candelaria.es/wp-content/uploads/Agenda-Abril-2026-Pantallas-32.jpg
END:VEVENT
BEGIN:VEVENT
DTSTART;TZID=Europe/London:20260417T210000
DTEND;TZID=Europe/London:20260418T223000
DTSTAMP:20260420T213028
CREATED:20260331T112823Z
LAST-MODIFIED:20260331T112823Z
UID:44375-1776459600-1776551400@www.candelaria.es
SUMMARY:CARCAJADA FEST CANDELARIA
DESCRIPTION:CARCAJADA\nFEST\nCANDELARIA \n21.00 Plaza del Centro comercial punta larga Viernes 17: AGUSTÍN JIMÉNEZ y TONI RODRÍGUEZ.\nSábado 18: DARÍO LÓPEZ y AARÓN GÓMEZ.\nEntrada gratuita
URL:https://www.candelaria.es/event/carcajada-fest-candelaria/
CATEGORIES:Cultura
ATTACH;FMTTYPE=image/jpeg:https://www.candelaria.es/wp-content/uploads/Agenda-Abril-2026-Pantallas-33.jpg
END:VEVENT
BEGIN:VEVENT
DTSTART;TZID=Europe/London:20260422T180000
DTEND;TZID=Europe/London:20260422T200000
DTSTAMP:20260420T213028
CREATED:20260420T094300Z
LAST-MODIFIED:20260420T094306Z
UID:44524-1776880800-1776888000@www.candelaria.es
SUMMARY:II Micro abierto de escritores 2020
DESCRIPTION:18.00 horas Salón de Actos del Espacio Cultural Punta Larga
URL:https://www.candelaria.es/event/ii-micro-abierto-de-escritores-2020/
CATEGORIES:Cultura
ATTACH;FMTTYPE=image/jpeg:https://www.candelaria.es/wp-content/uploads/Agenda-Abril-2026-Pantallas-43-1.jpg
END:VEVENT
BEGIN:VEVENT
DTSTART;TZID=Europe/London:20260424T170000
DTEND;TZID=Europe/London:20260424T190000
DTSTAMP:20260420T213028
CREATED:20260420T094632Z
LAST-MODIFIED:20260420T094632Z
UID:44530-1777050000-1777057200@www.candelaria.es
SUMMARY:Pequeviernes
DESCRIPTION:17.00 BIBLIOTECA DE PUNTA LARGA 17.00 h. Talleres con CAROLINA PURPURINA.\nInscripción: tickety.es. \n17.45 h. Espectáculo “El mundo mágico” de DAVID BORRÁS & YASMINE. \nLos menores deberán estar acompañados por un  familiar o responsable.\nEdad recomendada (+ 5 años).\nColabora: Cabildo de Tenerife.
URL:https://www.candelaria.es/event/pequeviernes-12/
CATEGORIES:Cultura
ATTACH;FMTTYPE=image/jpeg:https://www.candelaria.es/wp-content/uploads/Agenda-Abril-2026-Pantallas-45-1.jpg
END:VEVENT
BEGIN:VEVENT
DTSTART;TZID=Europe/London:20260424T200000
DTEND;TZID=Europe/London:20260424T213000
DTSTAMP:20260420T213028
CREATED:20260420T094738Z
LAST-MODIFIED:20260420T094738Z
UID:44533-1777060800-1777066200@www.candelaria.es
SUMMARY:Recital «Sonidos de hoy» de Ensemble Difracción
DESCRIPTION:20.00 SALÓN DE ACTOS DEL ESPACIO CULTURAL PUNTA LARGA\nSexteto de cuerda y viento dirigido por LEANDRO MARTÍN.\nCoordina: COSIMTE (Asociación de Compositores).
URL:https://www.candelaria.es/event/recital-sonidos-de-hoy-de-ensemble-difraccion/
CATEGORIES:Cultura
ATTACH;FMTTYPE=image/jpeg:https://www.candelaria.es/wp-content/uploads/recital.jpg
END:VEVENT
BEGIN:VEVENT
DTSTART;TZID=Europe/London:20260425T130000
DTEND;TZID=Europe/London:20260425T233000
DTSTAMP:20260420T213028
CREATED:20260420T095759Z
LAST-MODIFIED:20260420T095759Z
UID:44548-1777122000-1777159800@www.candelaria.es
SUMMARY:Feria Andaluza
DESCRIPTION:13.00 a 00.00\nPLAZA DE SANTA ANA\nActuaciones de la «Escuela municipal de sevillanas de la UPCAN» y del grupo» Son de\nSevilla». \nOrganiza Ayto y colabora Freiduría\, Abacería «La Mar».\nEntrada Libre.
URL:https://www.candelaria.es/event/feria-andaluza/
CATEGORIES:Cultura
ATTACH;FMTTYPE=image/jpeg:https://www.candelaria.es/wp-content/uploads/Agenda-Abril-2026-Pantallas-50-1.jpg
END:VEVENT
BEGIN:VEVENT
DTSTART;TZID=Europe/London:20260425T200000
DTEND;TZID=Europe/London:20260425T220000
DTSTAMP:20260420T213028
CREATED:20260420T095944Z
LAST-MODIFIED:20260420T095944Z
UID:44551-1777147200-1777154400@www.candelaria.es
SUMMARY:Teatro: La Tuerta
DESCRIPTION:20.00\nESPACIO CULTURAL CINE VIEJO\nCompañía: ARANZA COELLO.\nEntradas a 3€ en tickety.es y taquilla.\nColabora: Red de Espacios Escénicos Municipales de Tenerife
URL:https://www.candelaria.es/event/teatro-la-tuerta/
CATEGORIES:Cultura
END:VEVENT
END:VCALENDAR