BEGIN:VCALENDAR
VERSION:2.0
PRODID:-//Candelaria - ECPv6.11.2.1//NONSGML v1.0//EN
CALSCALE:GREGORIAN
METHOD:PUBLISH
X-WR-CALNAME:Candelaria
X-ORIGINAL-URL:https://www.candelaria.es
X-WR-CALDESC:Eventos para Candelaria
REFRESH-INTERVAL;VALUE=DURATION:PT1H
X-Robots-Tag:noindex
X-PUBLISHED-TTL:PT1H
BEGIN:VTIMEZONE
TZID:Europe/London
BEGIN:DAYLIGHT
TZOFFSETFROM:+0000
TZOFFSETTO:+0100
TZNAME:BST
DTSTART:20200329T010000
END:DAYLIGHT
BEGIN:STANDARD
TZOFFSETFROM:+0100
TZOFFSETTO:+0000
TZNAME:GMT
DTSTART:20201025T010000
END:STANDARD
BEGIN:DAYLIGHT
TZOFFSETFROM:+0000
TZOFFSETTO:+0100
TZNAME:BST
DTSTART:20210328T010000
END:DAYLIGHT
BEGIN:STANDARD
TZOFFSETFROM:+0100
TZOFFSETTO:+0000
TZNAME:GMT
DTSTART:20211031T010000
END:STANDARD
END:VTIMEZONE
BEGIN:VEVENT
DTSTART;TZID=Europe/London:20201216T170000
DTEND;TZID=Europe/London:20201221T180000
DTSTAMP:20260425T230939
CREATED:20201204T161004Z
LAST-MODIFIED:20201204T161048Z
UID:15914-1608138000-1608573600@www.candelaria.es
SUMMARY:Talleres de manualidades navideñas
DESCRIPTION:17.30 h. Red municipal de Bibliotecas.\nAraya: miércoles 2 y 16 de diciembre.\nBarranco Hondo: jueves 3.\nLas Caletillas: Viernes 18.\nIgueste: Lunes 21.
URL:https://www.candelaria.es/event/talleres-de-manualidades-navidenas/
CATEGORIES:Cultura
ATTACH;FMTTYPE=image/jpeg:https://www.candelaria.es/wp-content/uploads/MANUALIDADES-4-DIC.jpg
END:VEVENT
BEGIN:VEVENT
DTSTART;TZID=Europe/London:20201216T080000
DTEND;TZID=Europe/London:20210109T200000
DTSTAMP:20260425T230939
CREATED:20201209T092749Z
LAST-MODIFIED:20201209T092749Z
UID:15986-1608105600-1610222400@www.candelaria.es
SUMMARY:Exposición: ¿dónde están mis juguetes?
DESCRIPTION:8.00 h. Espacio Cultural Ayuntamiento Viejo.\nAPERTURA DE LA EXPOSICIÓN “¿DÓNDE\nESTÁN MIS JUGUETES? PEQUEÑOS OBJETOS\nARTESANALES. FUENTE DE ALEGRÍA Y\nLIBERTAD”.\nHasta el 9 de enero. 8.00 a 14.00 y 16.00 a 20.00 h.\nColabora: MUSEO DE ARTESANÍA\nIBEROAMERICANA DEL CABILDO DE TENERIFE.
URL:https://www.candelaria.es/event/exposicion-donde-estan-mis-juguetes/
LOCATION:Espacio Cultural Ayuntamiento Viejo
CATEGORIES:Cultura
ATTACH;FMTTYPE=image/jpeg:https://www.candelaria.es/wp-content/uploads/1-1.jpg
END:VEVENT
BEGIN:VEVENT
DTSTART;TZID=Europe/London:20201215T100000
DTEND;TZID=Europe/London:20201215T103000
DTSTAMP:20260425T230939
CREATED:20201209T095136Z
LAST-MODIFIED:20201209T095136Z
UID:15996-1608026400-1608028200@www.candelaria.es
SUMMARY:Taller de elaboración de truchas artesanales en familia
DESCRIPTION:10.00 h. Redes sociales del Ayuntamiento.\nTALLER DE ELABORACIÓN DE TRUCHAS\nARTESANALES EN FAMILIA.\nVídeo tutorial.
URL:https://www.candelaria.es/event/taller-de-elaboracion-de-truchas-artesanales-en-familia/
LOCATION:Redes sociales del Ayuntamiento
CATEGORIES:Cultura
ATTACH;FMTTYPE=image/jpeg:https://www.candelaria.es/wp-content/uploads/TRUCHAS-15-DIC.jpg
END:VEVENT
BEGIN:VEVENT
DTSTART;TZID=Europe/London:20201213T120000
DTEND;TZID=Europe/London:20201213T140000
DTSTAMP:20260425T230939
CREATED:20201202T141116Z
LAST-MODIFIED:20201202T141116Z
UID:15844-1607860800-1607868000@www.candelaria.es
SUMMARY:Teatro Infantil "Una de Macarroni"
DESCRIPTION:Teatro Infantil «Una de Macarroni» \n12.00 h. Espacio Cultural Cine Viejo. \nCompañía CLOWNBARET.\nColabora: TENERIFE ARTES ESCÉNICAS Y CANARIAS CULTURA EN RED.
URL:https://www.candelaria.es/event/teatro-infantil-una-de-macarroni/
CATEGORIES:Cultura
ATTACH;FMTTYPE=image/jpeg:https://www.candelaria.es/wp-content/uploads/MACARRONI-13-DIC.jpg
END:VEVENT
BEGIN:VEVENT
DTSTART;TZID=Europe/London:20201212T190000
DTEND;TZID=Europe/London:20201212T200000
DTSTAMP:20260425T230939
CREATED:20201207T113817Z
LAST-MODIFIED:20201207T113817Z
UID:15956-1607799600-1607803200@www.candelaria.es
SUMMARY:Coral Villa de Candelaria "Voces para la esperanza"
DESCRIPTION:Coral Villa de Candelaria «Voces para la esperanza» \nSábados 12\, 19 y 26.\n19.00 h. Basílica de Candelaria.
URL:https://www.candelaria.es/event/coral-villa-de-candelaria-voces-para-la-esperanza/
CATEGORIES:Cultura
ATTACH;FMTTYPE=image/jpeg:https://www.candelaria.es/wp-content/uploads/CORAL.jpg
END:VEVENT
BEGIN:VEVENT
DTSTART;TZID=Europe/London:20201212T120000
DTEND;TZID=Europe/London:20201212T130000
DTSTAMP:20260425T230939
CREATED:20201204T161616Z
LAST-MODIFIED:20201204T161616Z
UID:15917-1607774400-1607778000@www.candelaria.es
SUMMARY:Presentación del libro infantil 'Parque drac. animalario fantástico de poesía y travesuras de Lady Dragón
DESCRIPTION:Cuentacuentos de animales\, poemas y carrera con ranas saltarinas.\nImprescindible inscripción previa en la Biblioteca de La Villa (922 956 210).
URL:https://www.candelaria.es/event/presentacion-del-libro-infantil-parque-drac-animalario-fantastico-de-poesia-y-travesuras-de-lady-dragon/
CATEGORIES:Cultura
ATTACH;FMTTYPE=image/jpeg:https://www.candelaria.es/wp-content/uploads/LIBRO-PARQUE-DRAC.jpg
END:VEVENT
BEGIN:VEVENT
DTSTART;TZID=Europe/London:20201211T200000
DTEND;TZID=Europe/London:20201211T220000
DTSTAMP:20260425T230939
CREATED:20201202T140714Z
LAST-MODIFIED:20201202T140714Z
UID:15841-1607716800-1607724000@www.candelaria.es
SUMMARY:Espectáculo de Danza "Mararía"
DESCRIPTION:Espectáculo de Danza «Mararía»\nViernes 11.\n20.00 h. Espacio Cultural Cine Viejo.\nCompañía MARÍA MORA.\nColabora: TENERIFE ARTES ESCÉNICAS.
URL:https://www.candelaria.es/event/espectaculo-de-danza-mararia/
CATEGORIES:Cultura
ATTACH;FMTTYPE=image/jpeg:https://www.candelaria.es/wp-content/uploads/MARARIA-11-DIC-1.jpg
END:VEVENT
BEGIN:VEVENT
DTSTART;TZID=Europe/London:20201211T160000
DTEND;TZID=Europe/London:20201211T170000
DTSTAMP:20260425T230939
CREATED:20201209T103745Z
LAST-MODIFIED:20201209T103745Z
UID:16010-1607702400-1607706000@www.candelaria.es
SUMMARY:Taller de realidad virtual: racket NX
DESCRIPTION:16.00 h. TALLER DE REALIDAD VIRTUAL:\nRACKET NX.\nProyecto Juventud activa.
URL:https://www.candelaria.es/event/taller-de-realidad-virtual-racket-nx/
CATEGORIES:Juventud
ATTACH;FMTTYPE=image/png:https://www.candelaria.es/wp-content/uploads/realidadvirtual.png
END:VEVENT
BEGIN:VEVENT
DTSTART;TZID=Europe/London:20201209T173000
DTEND;TZID=Europe/London:20201216T193000
DTSTAMP:20260425T230939
CREATED:20201204T144147Z
LAST-MODIFIED:20201204T155704Z
UID:15907-1607535000-1608147000@www.candelaria.es
SUMMARY:Cine Infantil en Las Bibliotecas
DESCRIPTION:Cine Infantil en Las Bibliotecas\n17.30 h. Red municipal de Bibliotecas.\nIgueste: Miércoles 9 y 16.\nBarranco Hondo: Jueves 10.\nLas Caletillas: Viernes 11.“El principito”
URL:https://www.candelaria.es/event/cine-infantil-en-las-bibliotecas/
CATEGORIES:Cultura
ATTACH;FMTTYPE=image/jpeg:https://www.candelaria.es/wp-content/uploads/Navidad-2020-Portada.jpg
END:VEVENT
BEGIN:VEVENT
DTSTART;TZID=Europe/London:20201205T200000
DTEND;TZID=Europe/London:20201205T220000
DTSTAMP:20260425T230939
CREATED:20201130T150120Z
LAST-MODIFIED:20201202T141159Z
UID:15801-1607198400-1607205600@www.candelaria.es
SUMMARY:Góspel Naturally
DESCRIPTION:GÓSPEL NATURALLY\nSábado 5\n20.00 h. Espacio\nCultural Cine Viejo.\nGóspel con identidad propia. \nAcceso libre sin cita previa hasta completar aforo.
URL:https://www.candelaria.es/event/gospel-naturally/
CATEGORIES:Cultura
ATTACH;FMTTYPE=image/jpeg:https://www.candelaria.es/wp-content/uploads/NATURALLY-5-DIC.jpg
END:VEVENT
BEGIN:VEVENT
DTSTART;VALUE=DATE:20201204
DTEND;VALUE=DATE:20201205
DTSTAMP:20260425T230939
CREATED:20201130T150716Z
LAST-MODIFIED:20201130T150716Z
UID:15804-1607040000-1607126399@www.candelaria.es
SUMMARY:Apertura al público del Belén Municipal de Candelaria
DESCRIPTION:Apertura al público del Belén Municipal de Candelaria\nPlaza del Centro Cultural de La Villa.\nAPERTURA AL PÚBLICO DEL BELÉN\nMUNICIPAL DE CANDELARIA.\nAbierto las 24 horas\, podrá visitarse hasta el 2 de febrero de 2021. Se ruega la máxima responsabilidad en el cumplimiento de las distancias y la organización de la cola.
URL:https://www.candelaria.es/event/apertura-al-publico-del-belen-municipal-de-candelaria/
CATEGORIES:Cultura
ATTACH;FMTTYPE=image/jpeg:https://www.candelaria.es/wp-content/uploads/Foto-interior-del-Belen-junto-a-las-Tradiciones.jpg
END:VEVENT
BEGIN:VEVENT
DTSTART;TZID=Europe/London:20201201T100000
DTEND;TZID=Europe/London:20201201T103000
DTSTAMP:20260425T230939
CREATED:20201130T132352Z
LAST-MODIFIED:20201130T132352Z
UID:15795-1606816800-1606818600@www.candelaria.es
SUMMARY:Publicación fallo del jurado de los premios al arte 2020
DESCRIPTION:Publicación fallo del jurado de los premios al arte 2020\n10.00 h. Redes sociales del Ayuntamiento. \nProclamación de los ganadores del 17º Certamen de pintura Dimas Coello\, 4º Concurso bienal de composición para banda de música Abilio Alonso Otazo y 5º concurso de creación literaria.\nLos ganadores serán recibidos para la entrega de placas el jueves 10 de diciembre a las 19.00 h en el\nEspacio Cultural Ayuntamiento Viejo
URL:https://www.candelaria.es/event/publicacion-fallo-del-jurado-de-los-premios-al-arte-2020/
CATEGORIES:Cultura
ATTACH;FMTTYPE=image/jpeg:https://www.candelaria.es/wp-content/uploads/2020/05/IMG-20200512-WA0002.jpg
END:VEVENT
BEGIN:VEVENT
DTSTART;TZID=Europe/London:20201130T190000
DTEND;TZID=Europe/London:20201130T193000
DTSTAMP:20260425T230939
CREATED:20201126T091203Z
LAST-MODIFIED:20201126T091233Z
UID:15759-1606762800-1606764600@www.candelaria.es
SUMMARY:CELEBRACIÓN DE SAN ANDRÉS APÓSTOL EN LAS CUEVECITAS
DESCRIPTION:CELEBRACIÓN DE SAN ANDRÉS APÓSTOL EN LAS CUEVECITAS \nSolemne función religiosa en la Parroquia\, a las 19.00 horas. \n 
URL:https://www.candelaria.es/event/celebracion-de-san-andres-apostol-en-las-cuevecitas/
ATTACH;FMTTYPE=image/jpeg:https://www.candelaria.es/wp-content/uploads/Agenda-Noviembre-2020-Pantallas-33-1.jpg
END:VEVENT
BEGIN:VEVENT
DTSTART;TZID=Europe/London:20201128T200000
DTEND;TZID=Europe/London:20201128T220000
DTSTAMP:20260425T230939
CREATED:20201125T090904Z
LAST-MODIFIED:20201125T091025Z
UID:15721-1606593600-1606600800@www.candelaria.es
SUMMARY:Espectáculo "Al vino\, vino"
DESCRIPTION:Espectáculo «Al vino\, vino»\nEspacio Cultural Cine Viejo.\nCompañía INSULARIA TEATRO.\nColabora: Tenerife Artes Escénicas.
URL:https://www.candelaria.es/event/espectaculo-al-vino-vino/
CATEGORIES:Cultura
ATTACH;FMTTYPE=image/jpeg:https://www.candelaria.es/wp-content/uploads/Agenda-Noviembre-2020-Pantallas-32.jpg
END:VEVENT
BEGIN:VEVENT
DTSTART;TZID=Europe/London:20201127T190000
DTEND;TZID=Europe/London:20201127T200000
DTSTAMP:20260425T230939
CREATED:20201125T090709Z
LAST-MODIFIED:20201125T090709Z
UID:15718-1606503600-1606507200@www.candelaria.es
SUMMARY:Presentación del libro "Se de luz\, hijo de la tierra'
DESCRIPTION:Presentación del libro «Se de luz\, hijo de la tierra’\nZona Joven Punta Larga.\nAutor: LANGE AGUIAR \n#CandelariaEsCultura
URL:https://www.candelaria.es/event/presentacion-del-libro-se-de-luz-hijo-de-la-tierra/
CATEGORIES:Cultura
ATTACH;FMTTYPE=image/jpeg:https://www.candelaria.es/wp-content/uploads/Agenda-Noviembre-2020-Pantallas-27.jpg
END:VEVENT
BEGIN:VEVENT
DTSTART;TZID=Europe/London:20201124T180000
DTEND;TZID=Europe/London:20201124T200000
DTSTAMP:20260425T230939
CREATED:20201110T130026Z
LAST-MODIFIED:20201110T130026Z
UID:15573-1606240800-1606248000@www.candelaria.es
SUMMARY:Rincón Literario
DESCRIPTION:Rincón Literario\nZona Joven Punta Larga.\nEspacio para expresar y compartir cualidades literarias creativas.\nInscripción: zonajoven@candelaria.es
URL:https://www.candelaria.es/event/rincon-literario-2/
LOCATION:Zona Joven
CATEGORIES:Juventud
ATTACH;FMTTYPE=image/jpeg:https://www.candelaria.es/wp-content/uploads/Agenda-Noviembre-2020-Pantallas-24.jpg
END:VEVENT
BEGIN:VEVENT
DTSTART;TZID=Europe/London:20201123T163000
DTEND;TZID=Europe/London:20201125T190000
DTSTAMP:20260425T230939
CREATED:20201110T125325Z
LAST-MODIFIED:20201110T125639Z
UID:15568-1606149000-1606330800@www.candelaria.es
SUMMARY:Curso de extensión universitaria: Alquiler vacacional.
DESCRIPTION:Curso de extensión universitaria. Alquiler vacacional. Modelos de negocio y análisis de viabilidad (2ª Edición)\nLunes 23 al miércoles 25 de noviembre \nInscripción: https://www.ull.es/portal/agenda/evento/alquiler-vacacional-modelos-de-negocio-y-analisis-de-viabilidad-segunda-edicion/ \n 
URL:https://www.candelaria.es/event/curso-de-extension-universitaria-alquiler-vacacional-2/
CATEGORIES:Promoción económica y Empleo
ATTACH;FMTTYPE=image/jpeg:https://www.candelaria.es/wp-content/uploads/Agenda-Noviembre-2020-Pantallas-23.jpg
END:VEVENT
BEGIN:VEVENT
DTSTART;TZID=Europe/London:20201123T080000
DTEND;TZID=Europe/London:20201129T210000
DTSTAMP:20260425T230939
CREATED:20201110T123432Z
LAST-MODIFIED:20201110T123713Z
UID:15561-1606118400-1606683600@www.candelaria.es
SUMMARY:Black Friday en Candelaria
DESCRIPTION:Black Friday en Candelaria\nBenefíciate de los descuentos que podrás encontrar en los comercios del municipio. \nDel 23 al 29 de noviembre
URL:https://www.candelaria.es/event/black-friday-en-candelaria/
CATEGORIES:Comercio
ATTACH;FMTTYPE=image/jpeg:https://www.candelaria.es/wp-content/uploads/Black-Week-1080x1080_Mesa-de-trabajo-1.jpg
END:VEVENT
BEGIN:VEVENT
DTSTART;TZID=Europe/London:20201121T200000
DTEND;TZID=Europe/London:20201121T220000
DTSTAMP:20260425T230939
CREATED:20201110T123219Z
LAST-MODIFIED:20201110T123231Z
UID:15558-1605988800-1605996000@www.candelaria.es
SUMMARY:Concierto de Esther Ovejero
DESCRIPTION:Concierto de Esther Ovejero \nEspacio Cultural Cine Viejo.\n20.00 h.\nEspectáculo “Una caja de recuerdos”
URL:https://www.candelaria.es/event/concierto-de-esther-ovejero/
LOCATION:Espacio Cultural Cine Viejo
CATEGORIES:Cultura
ATTACH;FMTTYPE=image/jpeg:https://www.candelaria.es/wp-content/uploads/Agenda-Noviembre-2020-Pantallas-21.jpg
END:VEVENT
BEGIN:VEVENT
DTSTART;TZID=Europe/London:20201121T110000
DTEND;TZID=Europe/London:20201121T120000
DTSTAMP:20260425T230939
CREATED:20201110T122948Z
LAST-MODIFIED:20201113T154556Z
UID:15555-1605956400-1605960000@www.candelaria.es
SUMMARY:APLAZADO Charla en el Cosmos 'Mitología y Astronomía'
DESCRIPTION:Charla en el Cosmos ‘Mitología y Astronomía’\nZona Joven Punta Larga.\nMARÍA RIBES. Mitóloga de la Universidad de Alicante.\nHÉCTOR SOCAS NAVARRO. Director del Museo de\nla Ciencia y el Cosmos.\nColabora: AGENCIA SONRISAS TRAVEL.
URL:https://www.candelaria.es/event/charla-en-el-cosmos-mitologia-y-astronomia/
CATEGORIES:Turismo
ATTACH;FMTTYPE=image/jpeg:https://www.candelaria.es/wp-content/uploads/Agenda-Noviembre-2020-Pantallas-20.jpg
END:VEVENT
BEGIN:VEVENT
DTSTART;TZID=Europe/London:20201121T103000
DTEND;TZID=Europe/London:20201121T140000
DTSTAMP:20260425T230939
CREATED:20201110T123844Z
LAST-MODIFIED:20201110T124231Z
UID:15564-1605954600-1605967200@www.candelaria.es
SUMMARY:Bebecuentos con Laura Escuela
DESCRIPTION:Bebecuentos con Laura Escuela\n\nCentro Cultural de La Villa.\n10.30 y 12.00 horas.\nPara bebés de 6 a 36 meses.\nImprescindible inscripción previa en el Ayuntamiento Viejo.\nColabora: Cabildo de Tenerife.
URL:https://www.candelaria.es/event/bebecuentos-con-laura-escuela-2/
CATEGORIES:Cultura
ATTACH;FMTTYPE=image/jpeg:https://www.candelaria.es/wp-content/uploads/Agenda-Noviembre-2020-Pantallas-29.jpg
END:VEVENT
BEGIN:VEVENT
DTSTART;TZID=Europe/London:20201120T200000
DTEND;TZID=Europe/London:20201120T220000
DTSTAMP:20260425T230939
CREATED:20201110T122559Z
LAST-MODIFIED:20201110T122559Z
UID:15552-1605902400-1605909600@www.candelaria.es
SUMMARY:Concierto de Chago Melián
DESCRIPTION:Concierto de Chago Melián\nEspacio Cultural Cine Viejo.\nEspectáculo “Yo\, cuando pinto\, canto y cuando canto\, pinto”.
URL:https://www.candelaria.es/event/concierto-de-chago-melian/
LOCATION:Espacio Cultural Ayuntamiento Viejo
CATEGORIES:Cultura
ATTACH;FMTTYPE=image/jpeg:https://www.candelaria.es/wp-content/uploads/Agenda-Noviembre-2020-Pantallas-19.jpg
END:VEVENT
BEGIN:VEVENT
DTSTART;TZID=Europe/London:20201120T190000
DTEND;TZID=Europe/London:20201120T200000
DTSTAMP:20260425T230939
CREATED:20201110T122144Z
LAST-MODIFIED:20201110T122354Z
UID:15549-1605898800-1605902400@www.candelaria.es
SUMMARY:Presentación del libro 'Blanca Ascanio. La maestra roja
DESCRIPTION:Presentación del libro ‘Blanca Ascanio. La maestra roja\nZona Joven Punta Larga.\nAutores: MIGUEL ÁNGEL\nMORALES MORA y MARÍA\nSOLEDAD NAYA ASCANIO.\nPresentación: CECILIA DOMÍNGUEZ LUIS.\n 
URL:https://www.candelaria.es/event/presentacion-del-libro-blanca-ascanio-la-maestra-roja/
LOCATION:Zona Joven de Candelaria\, Calle Pasacola\, 3\, Candelaria\, 38530\, España
CATEGORIES:Cultura
ATTACH;FMTTYPE=image/jpeg:https://www.candelaria.es/wp-content/uploads/Agenda-Noviembre-2020-Pantallas-18.jpg
END:VEVENT
BEGIN:VEVENT
DTSTART;TZID=Europe/London:20201120T170000
DTEND;TZID=Europe/London:20201120T190000
DTSTAMP:20260425T230939
CREATED:20201110T115731Z
LAST-MODIFIED:20201110T115731Z
UID:15546-1605891600-1605898800@www.candelaria.es
SUMMARY:Taller educativo online: porno no es igual a sexualidad
DESCRIPTION:Taller educativo online: porno no es igual a sexualidad \n\nZona Joven Punta Larga – 17.00 horas\nCoordina: ASOCIACIÓN\nARENA Y LAURISILVA.\nInscripción: zonajoven@candelaria.es
URL:https://www.candelaria.es/event/taller-educativo-online-porno-no-es-igual-a-sexualidad/
LOCATION:Zona Joven de Candelaria\, Calle Pasacola\, 3\, Candelaria\, 38530\, España
CATEGORIES:Juventud
ATTACH;FMTTYPE=image/jpeg:https://www.candelaria.es/wp-content/uploads/Agenda-Noviembre-2020-Pantallas-17.jpg
END:VEVENT
BEGIN:VEVENT
DTSTART;TZID=Europe/London:20201118T180000
DTEND;TZID=Europe/London:20201118T210000
DTSTAMP:20260425T230939
CREATED:20201110T115149Z
LAST-MODIFIED:20201110T115149Z
UID:15543-1605722400-1605733200@www.candelaria.es
SUMMARY:Cinefórum: Una mujer fantástica de Sebastián Lelio (2017)
DESCRIPTION:Cinefórum: Una mujer fantástica de Sebastián Lelio (2017)\nZona Joven Punta Larga.\nProyección y charla con la crítica de cine\nSOFÍA RAMOS y la Asociación de familias de menores transexuales \nChrysallis Canarias\nCoordina: 35 MILÍMETROS.\n#CandelariaEsCultura
URL:https://www.candelaria.es/event/cineforum-una-mujer-fantastica-de-sebastian-lelio-2017/
LOCATION:Zona Joven de Candelaria\, Calle Pasacola\, 3\, Candelaria\, 38530\, España
ATTACH;FMTTYPE=image/jpeg:https://www.candelaria.es/wp-content/uploads/Agenda-Noviembre-2020-Pantallas-16.jpg
END:VEVENT
BEGIN:VEVENT
DTSTART;TZID=Europe/London:20201116T190000
DTEND;TZID=Europe/London:20201116T200000
DTSTAMP:20260425T230939
CREATED:20201110T113454Z
LAST-MODIFIED:20201110T114953Z
UID:15540-1605553200-1605556800@www.candelaria.es
SUMMARY:Presentación del libro "Desde lo oscuro"
DESCRIPTION:Presentación del libro «Desde lo oscuro» \nZona Joven de Punta  Larga \nAutor: Juan Carlos Chávez Mora \n19.00 horas
URL:https://www.candelaria.es/event/presentacion-del-libro-desde-lo-oscuro/
CATEGORIES:Cultura
ATTACH;FMTTYPE=image/jpeg:https://www.candelaria.es/wp-content/uploads/Agenda-Noviembre-2020-Pantallas-15.jpg
END:VEVENT
BEGIN:VEVENT
DTSTART;TZID=Europe/London:20201116T093000
DTEND;TZID=Europe/London:20201116T103000
DTSTAMP:20260425T230939
CREATED:20201110T110830Z
LAST-MODIFIED:20201110T111343Z
UID:15535-1605519000-1605522600@www.candelaria.es
SUMMARY:Actividad gastronómica en streaming: técnica de conservación y aprovechamiento
DESCRIPTION:Actividad gastronómica en streaming: técnica de conservación y aprovechamiento de alimentos en tu restaurante y en tu cocina. \nDirigido al sector empresarial con el fin de ofrecer herramientas para aprovechar al máximo sus recursos gastronómicos. \nSíguelo en el siguiente enlace: \n \n 
URL:https://www.candelaria.es/event/actividad-gastronomica-en-streaming-tecnica-de-conservacion-y-aprovechamiento/
LOCATION:On line
CATEGORIES:Comercio
ATTACH;FMTTYPE=image/jpeg:https://www.candelaria.es/wp-content/uploads/Agenda-Noviembre-2020-Pantallas-14.jpg
END:VEVENT
BEGIN:VEVENT
DTSTART;TZID=Europe/London:20201114T100000
DTEND;TZID=Europe/London:20201114T120000
DTSTAMP:20260425T230939
CREATED:20201030T101100Z
LAST-MODIFIED:20201030T101100Z
UID:15394-1605348000-1605355200@www.candelaria.es
SUMMARY:Ruta guiada "Camino Candelaria"
DESCRIPTION:Rutas turísticas \nDías 4\, 7\, 11 y 14. 10.00 y 12.00  \nRUTAS GUIADAS “CAMINO CANDELARIA” \nOficina de Información Turística. \nDisfruta los valores tradicionales\, culturales e históricos\, evocando antiguas leyendas. \nApta para toda la familia. Inscripciones en www.caminocandelaria.es. \nComercio y Turismo \n 
URL:https://www.candelaria.es/event/ruta-guiada-camino-candelaria-4/
CATEGORIES:Turismo
ATTACH;FMTTYPE=image/jpeg:https://www.candelaria.es/wp-content/uploads/Agenda-Noviembre-2020-Pantallas-04.jpg
END:VEVENT
BEGIN:VEVENT
DTSTART;TZID=Europe/London:20201113T190000
DTEND;TZID=Europe/London:20201113T220000
DTSTAMP:20260425T230939
CREATED:20201030T114255Z
LAST-MODIFIED:20201113T155911Z
UID:15405-1605294000-1605304800@www.candelaria.es
SUMMARY:APLAZADA Charla y observación de estrellas "Mirando al universo de cerca"
DESCRIPTION:CHARLA Y OBSERVACIÓN DE ESTRELLAS “MIRANDO AL UNIVERSO DE CERCA» \nZona Joven Punta larga.\n19.00 h. Charla Guia Starlight.\n20.00 h. Observación de\nestrellas desde Mirador de Chipeque.\nColabora: AGENCIA SONRISAS TRAVEL.
URL:https://www.candelaria.es/event/charla-y-observacion-de-estrellas-mirando-al-universo-de-cerca/
CATEGORIES:Turismo
ATTACH;FMTTYPE=image/jpeg:https://www.candelaria.es/wp-content/uploads/Agenda-Noviembre-2020-Pantallas-07.jpg
END:VEVENT
BEGIN:VEVENT
DTSTART;TZID=Europe/London:20201113T080000
DTEND;TZID=Europe/London:20201113T170000
DTSTAMP:20260425T230939
CREATED:20201113T153149Z
LAST-MODIFIED:20201113T153149Z
UID:15622-1605254400-1605286800@www.candelaria.es
SUMMARY:Comunicado Ayuntamiento de Candelaria. Medidas excepcionales COVID -19
DESCRIPTION:Comunicado Ayuntamiento de Candelaria. Medidas excepcionales COVID -19 \nAtendiendo a las medidas extraordinarias para frenar la transmisión comunitaria publicadas por el Gobierno de Canarias recogidas en el Boletín Oficial de Canarias (BOC) de este viernes\, 13 de noviembre\, el Ayuntamiento de Candelaria ha adoptado las siguientes medidas: \n\nEn las Escuelas Municipales Deportivas y clubes se llevarán a cabo restructuraciones de los grupos que realizan su actividad en los pabellones. La información se remitirá por parte de la Concejalía de Deportes a las disciplinas afectadas.\nLa Universidad Popular de Candelaria (UPCAN) suspende las clases de aquellas disciplinas que cuentan con más de 6 alumnos por clase. Se mantienen las clases de acordeón\, teclado\, guitarra clásica\, música moderna\, violín\, instrumentos tradicionales de Igueste\, canto moderno\, cocina y púas y grupo inicial de instrumentos tradicionales.\nSolo podrán celebrarse ensayos\, reuniones o actividades de los colectivos y asociaciones con un máximo de 6 personas.\nLas instalaciones de la Asociación de Mayores Antón Guanche y del espacio recreativo de Zona Joven permanecerán cerradas.\nLa Policía Local intensificará la vigilancia en todo el municipio con especial atención a parques\, restauración y hostelería con el fin de informar y velar por el cumplimiento de las medidas\n\nLas medidas estarán vigentes desde este viernes\, 13 de noviembre\, hasta el jueves 26 de noviembre.  \n  \nRecordamos también \n\nUso continuado de la mascarilla en todos los espacios independientemente del mantenimiento de la distancia de seguridad.\nEtiqueta respiratoria (toser en la flexión del codo y no en la mano)\nLavado frecuente de manos.\nMantenimiento de la distancia de seguridad interpersonal en todo momento de 1\,5 m.\nProhibición de fumar mientras se transita por la vía pública o en espacios al aire libre cuando no se pueda respetar una distancia interpersonal mínima de 2 metros.\n\n#SigamosCumliendo  #SigamosSiendoResponsables \n 
URL:https://www.candelaria.es/event/comunicado-ayuntamiento-de-candelaria-medidas-excepcionales-covid-19/
CATEGORIES:Alcaldía,Sanidad,Seguridad y Emergencias
END:VEVENT
END:VCALENDAR